BEGIN:VCALENDAR
VERSION:2.0
PRODID:-//wp-events-plugin.com//7.2.3.1//EN
TZID:Europe/London
X-WR-TIMEZONE:Europe/London
BEGIN:VEVENT
UID:1268@heatonstan.co.uk
DTSTART;TZID=Europe/London:20250922T120000
DTEND;TZID=Europe/London:20250922T170000
DTSTAMP:20250901T192441Z
URL:https://heatonstan.co.uk/events/wake-2/
SUMMARY:Wake
DESCRIPTION:Neil
CATEGORIES:Private Functions
END:VEVENT
BEGIN:VTIMEZONE
TZID:Europe/London
X-LIC-LOCATION:Europe/London
BEGIN:DAYLIGHT
DTSTART:20250330T020000
TZOFFSETFROM:+0000
TZOFFSETTO:+0100
TZNAME:BST
END:DAYLIGHT
END:VTIMEZONE
END:VCALENDAR