BEGIN:VCALENDAR
VERSION:2.0
PRODID:-//wp-events-plugin.com//7.2.3.1//EN
TZID:Europe/London
X-WR-TIMEZONE:Europe/London
BEGIN:VEVENT
UID:1280@heatonstan.co.uk
DTSTART;TZID=Europe/London:20251219T170000
DTEND;TZID=Europe/London:20251219T190000
DTSTAMP:20251124T201619Z
URL:https://heatonstan.co.uk/events/under-78-xmas-disxo/
SUMMARY:Under 7/8 Xmas disco
DESCRIPTION:
CATEGORIES:Private Functions
END:VEVENT
BEGIN:VTIMEZONE
TZID:Europe/London
X-LIC-LOCATION:Europe/London
BEGIN:STANDARD
DTSTART:20251026T010000
TZOFFSETFROM:+0100
TZOFFSETTO:+0000
TZNAME:GMT
END:STANDARD
END:VTIMEZONE
END:VCALENDAR