BEGIN:VCALENDAR
VERSION:2.0
PRODID:-//wp-events-plugin.com//7.2.3.1//EN
TZID:Europe/London
X-WR-TIMEZONE:Europe/London
BEGIN:VEVENT
UID:406@heatonstan.co.uk
DTSTART;TZID=Europe/London:20240417T170000
DTEND;TZID=Europe/London:20240417T230000
DTSTAMP:20240303T213502Z
URL:https://heatonstan.co.uk/events/stan-v-shildon/
SUMMARY:Stan v Shildon
DESCRIPTION:
CATEGORIES:Football Matches
END:VEVENT
BEGIN:VTIMEZONE
TZID:Europe/London
X-LIC-LOCATION:Europe/London
BEGIN:DAYLIGHT
DTSTART:20240331T020000
TZOFFSETFROM:+0000
TZOFFSETTO:+0100
TZNAME:BST
END:DAYLIGHT
END:VTIMEZONE
END:VCALENDAR