BEGIN:VCALENDAR
VERSION:2.0
PRODID:-//wp-events-plugin.com//7.2.3.1//EN
TZID:Europe/London
X-WR-TIMEZONE:Europe/London
BEGIN:VEVENT
UID:411@heatonstan.co.uk
DTSTART;TZID=Europe/London:20240224T130000
DTEND;TZID=Europe/London:20240224T190000
DTSTAMP:20231228T185303Z
URL:https://heatonstan.co.uk/events/stan-v-redcar-athletic/
SUMMARY:Stan v Redcar Athletic
DESCRIPTION:
CATEGORIES:Football Matches
END:VEVENT
BEGIN:VTIMEZONE
TZID:Europe/London
X-LIC-LOCATION:Europe/London
BEGIN:STANDARD
DTSTART:20231029T010000
TZOFFSETFROM:+0100
TZOFFSETTO:+0000
TZNAME:GMT
END:STANDARD
END:VTIMEZONE
END:VCALENDAR