BEGIN:VCALENDAR
VERSION:2.0
PRODID:-//wp-events-plugin.com//7.2.3.1//EN
TZID:Europe/London
X-WR-TIMEZONE:Europe/London
BEGIN:VEVENT
UID:407@heatonstan.co.uk
DTSTART;TZID=Europe/London:20240309T130000
DTEND;TZID=Europe/London:20240309T190000
DTSTAMP:20240204T193042Z
URL:https://heatonstan.co.uk/events/stan-v-crook/
SUMMARY:Stan v Crook
DESCRIPTION:
CATEGORIES:Football Matches
END:VEVENT
BEGIN:VTIMEZONE
TZID:Europe/London
X-LIC-LOCATION:Europe/London
BEGIN:STANDARD
DTSTART:20231029T010000
TZOFFSETFROM:+0100
TZOFFSETTO:+0000
TZNAME:GMT
END:STANDARD
END:VTIMEZONE
END:VCALENDAR