BEGIN:VCALENDAR
VERSION:2.0
PRODID:-//wp-events-plugin.com//7.2.3.1//EN
TZID:Europe/London
X-WR-TIMEZONE:Europe/London
BEGIN:VEVENT
UID:1284@heatonstan.co.uk
DTSTART;TZID=Europe/London:20251115T190000
DTEND;TZID=Europe/London:20251115T230000
DTSTAMP:20251008T204819Z
URL:https://heatonstan.co.uk/events/race-night-2/
SUMMARY:Race night
DESCRIPTION:Being arranged by Heaton Stan A
CATEGORIES:Public Event
END:VEVENT
BEGIN:VTIMEZONE
TZID:Europe/London
X-LIC-LOCATION:Europe/London
BEGIN:STANDARD
DTSTART:20251026T010000
TZOFFSETFROM:+0100
TZOFFSETTO:+0000
TZNAME:GMT
END:STANDARD
END:VTIMEZONE
END:VCALENDAR