BEGIN:VCALENDAR
VERSION:2.0
PRODID:-//wp-events-plugin.com//7.2.3.1//EN
TZID:Europe/London
X-WR-TIMEZONE:Europe/London
BEGIN:VEVENT
UID:1264@heatonstan.co.uk
DTSTART;TZID=Europe/London:20260830T140000
DTEND;TZID=Europe/London:20260830T220000
DTSTAMP:20250817T175051Z
URL:https://heatonstan.co.uk/events/party-alex-stephs-daughter/
SUMMARY:Party - Alex (Stephs daughter)
DESCRIPTION:Early booking for next year\n\nTo sort out numbers and bar near
 er the time.
CATEGORIES:Private Functions
END:VEVENT
BEGIN:VTIMEZONE
TZID:Europe/London
X-LIC-LOCATION:Europe/London
BEGIN:DAYLIGHT
DTSTART:20260329T020000
TZOFFSETFROM:+0000
TZOFFSETTO:+0100
TZNAME:BST
END:DAYLIGHT
END:VTIMEZONE
END:VCALENDAR