BEGIN:VCALENDAR
VERSION:2.0
PRODID:-//wp-events-plugin.com//7.2.3.1//EN
TZID:Europe/London
X-WR-TIMEZONE:Europe/London
BEGIN:VEVENT
UID:1263@heatonstan.co.uk
DTSTART;TZID=Europe/London;VALUE=DATE:20250826
DTEND;TZID=Europe/London;VALUE=DATE:20250830
DTSTAMP:20250803T180441Z
URL:https://heatonstan.co.uk/events/lounge-being-painted/
SUMMARY:Lounge being painted
DESCRIPTION:Neil/Chris organising
CATEGORIES:Private Functions
END:VEVENT
BEGIN:VTIMEZONE
TZID:Europe/London
X-LIC-LOCATION:Europe/London
BEGIN:DAYLIGHT
DTSTART:20250330T020000
TZOFFSETFROM:+0000
TZOFFSETTO:+0100
TZNAME:BST
END:DAYLIGHT
END:VTIMEZONE
END:VCALENDAR