BEGIN:VCALENDAR
VERSION:2.0
PRODID:-//wp-events-plugin.com//7.2.3.1//EN
TZID:Europe/London
X-WR-TIMEZONE:Europe/London
BEGIN:VEVENT
UID:1266@heatonstan.co.uk
DTSTART;TZID=Europe/London:20250911T180000
DTEND;TZID=Europe/London:20250911T200000
DTSTAMP:20250828T140042Z
URL:https://heatonstan.co.uk/events/juniors-presentation/
SUMMARY:Juniors presentation
DESCRIPTION:John R organising. To liaise with Neil/Chris over access and ba
 r arrangements.
CATEGORIES:Private Functions
END:VEVENT
BEGIN:VTIMEZONE
TZID:Europe/London
X-LIC-LOCATION:Europe/London
BEGIN:DAYLIGHT
DTSTART:20250330T020000
TZOFFSETFROM:+0000
TZOFFSETTO:+0100
TZNAME:BST
END:DAYLIGHT
END:VTIMEZONE
END:VCALENDAR