BEGIN:VCALENDAR
VERSION:2.0
PRODID:-//wp-events-plugin.com//7.2.3.1//EN
TZID:Europe/London
X-WR-TIMEZONE:Europe/London
BEGIN:VEVENT
UID:1281@heatonstan.co.uk
DTSTART;TZID=Europe/London;VALUE=DATE:20251027
DTEND;TZID=Europe/London;VALUE=DATE:20251101
DTSTAMP:20250919T084709Z
URL:https://heatonstan.co.uk/events/juniors-half-term-coaching/
SUMMARY:Juniors half term coaching
DESCRIPTION:Clubhouse lounge needed 08:30-09:00 for meet up &amp\; then 12:
 00-14:00 each day.\n\nNo bar.\n\nNo requirement for pitch use at Willow Pa
 rk\, any on field coaching will be at Paddies.\n\nChris Davison and Martyn
  Gurr organising.
CATEGORIES:Private Functions
END:VEVENT
BEGIN:VTIMEZONE
TZID:Europe/London
X-LIC-LOCATION:Europe/London
BEGIN:STANDARD
DTSTART:20251026T010000
TZOFFSETFROM:+0100
TZOFFSETTO:+0000
TZNAME:GMT
END:STANDARD
END:VTIMEZONE
END:VCALENDAR