BEGIN:VCALENDAR
VERSION:2.0
PRODID:-//wp-events-plugin.com//7.2.3.1//EN
TZID:Europe/London
X-WR-TIMEZONE:Europe/London
BEGIN:VEVENT
UID:1286@heatonstan.co.uk
DTSTART;TZID=Europe/London:20251123T160000
DTEND;TZID=Europe/London:20251123T193000
DTSTAMP:20251013T123123Z
URL:https://heatonstan.co.uk/events/juniors-christmas-party-3/
SUMMARY:Juniors Christmas Party
DESCRIPTION:Karl
CATEGORIES:Private Functions
END:VEVENT
BEGIN:VTIMEZONE
TZID:Europe/London
X-LIC-LOCATION:Europe/London
BEGIN:STANDARD
DTSTART:20251026T010000
TZOFFSETFROM:+0100
TZOFFSETTO:+0000
TZNAME:GMT
END:STANDARD
END:VTIMEZONE
END:VCALENDAR