BEGIN:VCALENDAR
VERSION:2.0
PRODID:-//wp-events-plugin.com//7.2.3.1//EN
TZID:Europe/London
X-WR-TIMEZONE:Europe/London
BEGIN:VEVENT
UID:1255@heatonstan.co.uk
DTSTART;TZID=Europe/London:20260404T150000
DTEND;TZID=Europe/London:20260404T170000
DTSTAMP:20250801T095519Z
URL:https://heatonstan.co.uk/events/heaton-stannington-vs-north-ferriby/
SUMMARY:Heaton Stannington vs North Ferriby
DESCRIPTION:
CATEGORIES:Football Matches
END:VEVENT
BEGIN:VTIMEZONE
TZID:Europe/London
X-LIC-LOCATION:Europe/London
BEGIN:DAYLIGHT
DTSTART:20260329T020000
TZOFFSETFROM:+0000
TZOFFSETTO:+0100
TZNAME:BST
END:DAYLIGHT
END:VTIMEZONE
END:VCALENDAR