BEGIN:VCALENDAR
VERSION:2.0
PRODID:-//wp-events-plugin.com//7.2.3.1//EN
TZID:Europe/London
X-WR-TIMEZONE:Europe/London
BEGIN:VEVENT
UID:1292@heatonstan.co.uk
DTSTART;TZID=Europe/London:20260102T194500
DTEND;TZID=Europe/London:20260102T214500
DTSTAMP:20251019T123658Z
URL:https://heatonstan.co.uk/events/heaton-stannington-vs-ashington/
SUMMARY:Heaton Stannington vs Ashington
DESCRIPTION:Note\; date moved from 1st Jan
CATEGORIES:Football Matches
END:VEVENT
BEGIN:VTIMEZONE
TZID:Europe/London
X-LIC-LOCATION:Europe/London
BEGIN:STANDARD
DTSTART:20251026T010000
TZOFFSETFROM:+0100
TZOFFSETTO:+0000
TZNAME:GMT
END:STANDARD
END:VTIMEZONE
END:VCALENDAR