BEGIN:VCALENDAR
VERSION:2.0
PRODID:-//wp-events-plugin.com//7.2.3.1//EN
TZID:Europe/London
X-WR-TIMEZONE:Europe/London
BEGIN:VEVENT
UID:1259@heatonstan.co.uk
DTSTART;TZID=Europe/London:20250813T184500
DTEND;TZID=Europe/London:20250813T204500
DTSTAMP:20250801T095843Z
URL:https://heatonstan.co.uk/events/heaton-stannington-a-vs-north-shields-
 athletic/
SUMMARY:Heaton Stannington A vs North Shields Athletic
DESCRIPTION:
CATEGORIES:Football Matches
END:VEVENT
BEGIN:VTIMEZONE
TZID:Europe/London
X-LIC-LOCATION:Europe/London
BEGIN:DAYLIGHT
DTSTART:20250330T020000
TZOFFSETFROM:+0000
TZOFFSETTO:+0100
TZNAME:BST
END:DAYLIGHT
END:VTIMEZONE
END:VCALENDAR