BEGIN:VCALENDAR
VERSION:2.0
PRODID:-//wp-events-plugin.com//7.2.3.1//EN
TZID:Europe/London
X-WR-TIMEZONE:Europe/London
BEGIN:VEVENT
UID:1826@heatonstan.co.uk
DTSTART;TZID=Europe/London:20260415T194500
DTEND;TZID=Europe/London:20260415T214500
DTSTAMP:20260304T213456Z
URL:https://heatonstan.co.uk/events/heaton-stan-v-newcastle-uni-semi-final
 /
SUMMARY:Heaton Stan v Newcastle Uni - semi final
DESCRIPTION:
CATEGORIES:Football Matches
END:VEVENT
BEGIN:VTIMEZONE
TZID:Europe/London
X-LIC-LOCATION:Europe/London
BEGIN:DAYLIGHT
DTSTART:20260329T020000
TZOFFSETFROM:+0000
TZOFFSETTO:+0100
TZNAME:BST
END:DAYLIGHT
END:VTIMEZONE
END:VCALENDAR