BEGIN:VCALENDAR
VERSION:2.0
PRODID:-//wp-events-plugin.com//7.2.3.1//EN
TZID:Europe/London
X-WR-TIMEZONE:Europe/London
BEGIN:VEVENT
UID:1272@heatonstan.co.uk
DTSTART;TZID=Europe/London:20250916T190000
DTEND;TZID=Europe/London:20250916T210000
DTSTAMP:20250905T152650Z
URL:https://heatonstan.co.uk/events/heaton-stan-u18-v-south-shields-u18-fa
 -youth-cup/
SUMMARY:Heaton Stan U18 v South Shields U18 - FA Youth Cup
DESCRIPTION:
CATEGORIES:Football Matches
END:VEVENT
BEGIN:VTIMEZONE
TZID:Europe/London
X-LIC-LOCATION:Europe/London
BEGIN:DAYLIGHT
DTSTART:20250330T020000
TZOFFSETFROM:+0000
TZOFFSETTO:+0100
TZNAME:BST
END:DAYLIGHT
END:VTIMEZONE
END:VCALENDAR