BEGIN:VCALENDAR
VERSION:2.0
PRODID:-//wp-events-plugin.com//7.2.3.1//EN
TZID:Europe/London
X-WR-TIMEZONE:Europe/London
BEGIN:VEVENT
UID:1271@heatonstan.co.uk
DTSTART;TZID=Europe/London:20250927T140000
DTEND;TZID=Europe/London:20250927T160000
DTSTAMP:20250905T124133Z
URL:https://heatonstan.co.uk/events/heaton-stan-a-v-independent/
SUMMARY:Heaton Stan A v Independent
DESCRIPTION:
CATEGORIES:Football Matches
END:VEVENT
BEGIN:VTIMEZONE
TZID:Europe/London
X-LIC-LOCATION:Europe/London
BEGIN:DAYLIGHT
DTSTART:20250330T020000
TZOFFSETFROM:+0000
TZOFFSETTO:+0100
TZNAME:BST
END:DAYLIGHT
END:VTIMEZONE
END:VCALENDAR