BEGIN:VCALENDAR
VERSION:2.0
PRODID:-//wp-events-plugin.com//7.2.3.1//EN
TZID:Europe/London
X-WR-TIMEZONE:Europe/London
BEGIN:VEVENT
UID:1287@heatonstan.co.uk
DTSTART;TZID=Europe/London:20260509T120000
DTEND;TZID=Europe/London:20260509T190000
DTSTAMP:20260414T163115Z
URL:https://heatonstan.co.uk/events/cross-country-trains-game-2026/
SUMMARY:Cross Country Trains Game 2026
DESCRIPTION:Paid bar staff to be organised + Scott
CATEGORIES:Private Functions
END:VEVENT
BEGIN:VTIMEZONE
TZID:Europe/London
X-LIC-LOCATION:Europe/London
BEGIN:DAYLIGHT
DTSTART:20260329T020000
TZOFFSETFROM:+0000
TZOFFSETTO:+0100
TZNAME:BST
END:DAYLIGHT
END:VTIMEZONE
END:VCALENDAR