BEGIN:VCALENDAR
VERSION:2.0
PRODID:-//wp-events-plugin.com//7.2.3.1//EN
TZID:Europe/London
X-WR-TIMEZONE:Europe/London
BEGIN:VEVENT
UID:1839@heatonstan.co.uk
DTSTART;TZID=Europe/London:20260710T180000
DTEND;TZID=Europe/London:20260710T210000
DTSTAMP:20260327T111240Z
URL:https://heatonstan.co.uk/events/cragside-school-leavers-event/
SUMMARY:Cragside School Leavers Event
DESCRIPTION:60 kids plus parents. Likely to require earlier access to setup
 .\n\n£50 hire fee payable on the day.
CATEGORIES:Private Functions
END:VEVENT
BEGIN:VTIMEZONE
TZID:Europe/London
X-LIC-LOCATION:Europe/London
BEGIN:DAYLIGHT
DTSTART:20260329T020000
TZOFFSETFROM:+0000
TZOFFSETTO:+0100
TZNAME:BST
END:DAYLIGHT
END:VTIMEZONE
END:VCALENDAR