BEGIN:VCALENDAR
VERSION:2.0
PRODID:-//wp-events-plugin.com//7.2.3.1//EN
TZID:Europe/London
X-WR-TIMEZONE:Europe/London
BEGIN:VEVENT
UID:1282@heatonstan.co.uk
DTSTART;TZID=Europe/London:20251001T193000
DTEND;TZID=Europe/London:20251001T210000
DTSTAMP:20250919T141807Z
URL:https://heatonstan.co.uk/events/cragside-pfta-meeting-upstairs-room/
SUMMARY:Cragside PFTA meeting (upstairs room)
DESCRIPTION:
CATEGORIES:Private Functions
END:VEVENT
BEGIN:VTIMEZONE
TZID:Europe/London
X-LIC-LOCATION:Europe/London
BEGIN:DAYLIGHT
DTSTART:20250330T020000
TZOFFSETFROM:+0000
TZOFFSETTO:+0100
TZNAME:BST
END:DAYLIGHT
END:VTIMEZONE
END:VCALENDAR