BEGIN:VCALENDAR
VERSION:2.0
PRODID:-//wp-events-plugin.com//7.2.3.1//EN
TZID:Europe/London
X-WR-TIMEZONE:Europe/London
BEGIN:VEVENT
UID:1288@heatonstan.co.uk
DTSTART;TZID=Europe/London;VALUE=DATE:20260516
DTEND;TZID=Europe/London;VALUE=DATE:20260518
DTSTAMP:20251014T205511Z
URL:https://heatonstan.co.uk/events/club-presentation-weekend/
SUMMARY:Club Presentation Weekend
DESCRIPTION:Schedule TBC\, likely to span Sat &amp\; Sun.\n\nMarquee.
CATEGORIES:Private Functions
END:VEVENT
BEGIN:VTIMEZONE
TZID:Europe/London
X-LIC-LOCATION:Europe/London
BEGIN:DAYLIGHT
DTSTART:20260329T020000
TZOFFSETFROM:+0000
TZOFFSETTO:+0100
TZNAME:BST
END:DAYLIGHT
END:VTIMEZONE
END:VCALENDAR