BEGIN:VCALENDAR
VERSION:2.0
PRODID:-//wp-events-plugin.com//7.2.3.1//EN
TZID:Europe/London
X-WR-TIMEZONE:Europe/London
BEGIN:VEVENT
UID:1261@heatonstan.co.uk
DTSTART;TZID=Europe/London:20251031T190000
DTEND;TZID=Europe/London:20251031T230000
DTSTAMP:20250803T142201Z
URL:https://heatonstan.co.uk/events/alison-eccleston-60th-birthday-party/
SUMMARY:Alison Eccleston 60th Birthday Party
DESCRIPTION:Will pay for bar staff\, to organise nearer the date.\n\nNumber
 s TBC\, approx 60.
CATEGORIES:Private Functions
END:VEVENT
BEGIN:VTIMEZONE
TZID:Europe/London
X-LIC-LOCATION:Europe/London
BEGIN:STANDARD
DTSTART:20251026T010000
TZOFFSETFROM:+0100
TZOFFSETTO:+0000
TZNAME:GMT
END:STANDARD
END:VTIMEZONE
END:VCALENDAR