BEGIN:VCALENDAR
VERSION:2.0
PRODID:-//wp-events-plugin.com//7.2.3.1//EN
TZID:Europe/London
X-WR-TIMEZONE:Europe/London
BEGIN:VEVENT
UID:1847@heatonstan.co.uk
DTSTART;TZID=Europe/London:20260606T160000
DTEND;TZID=Europe/London:20260606T223000
DTSTAMP:20260422T115420Z
URL:https://heatonstan.co.uk/events/70th-birthday-party-2/
SUMMARY:70th birthday party
DESCRIPTION:70-100 people. Use of lounge and potential upstairs room for bu
 ffet.\n£100 fee agreed.\nScott to arrange bar staff.\n\nDanielle Kelly - 
 07769308336\n\ndaniellekelly89@icloud.com
CATEGORIES:Private Functions
END:VEVENT
BEGIN:VTIMEZONE
TZID:Europe/London
X-LIC-LOCATION:Europe/London
BEGIN:DAYLIGHT
DTSTART:20260329T020000
TZOFFSETFROM:+0000
TZOFFSETTO:+0100
TZNAME:BST
END:DAYLIGHT
END:VTIMEZONE
END:VCALENDAR