BEGIN:VCALENDAR
VERSION:2.0
PRODID:-//wp-events-plugin.com//7.2.3.1//EN
TZID:Europe/London
X-WR-TIMEZONE:Europe/London
BEGIN:VEVENT
UID:1838@heatonstan.co.uk
DTSTART;TZID=Europe/London:20260408T190000
DTEND;TZID=Europe/London:20260408T220000
DTSTAMP:20260326T083635Z
URL:https://heatonstan.co.uk/events/41-club/
SUMMARY:41 Club
DESCRIPTION:Upstairs room
CATEGORIES:Private Functions
END:VEVENT
BEGIN:VTIMEZONE
TZID:Europe/London
X-LIC-LOCATION:Europe/London
BEGIN:DAYLIGHT
DTSTART:20260329T020000
TZOFFSETFROM:+0000
TZOFFSETTO:+0100
TZNAME:BST
END:DAYLIGHT
END:VTIMEZONE
END:VCALENDAR